BEGIN:VCALENDAR
VERSION:2.0
PRODID:-//ChamberMaster//Event Calendar 2.0//EN
METHOD:PUBLISH
X-PUBLISHED-TTL:P3D
REFRESH-INTERVAL:P3D
CALSCALE:GREGORIAN
BEGIN:VEVENT
DTSTART:20180923T180000Z
DTEND:20180923T200000Z
X-MICROSOFT-CDO-ALLDAYEVENT:FALSE
SUMMARY:Making the Film "Saving the Great Swamp"
DESCRIPTION:Please join the Chatham Township Historical Society for this informative program given by Scott Morris and Larry Fast and learn about how they made the movie "Saving the Great Swamp - Battle to Defeat the Jetport." It is is a one-hour documentary narrated by Blythe Danner that describes the campaign that took place between 1959 and 1968 to save the Great Swamp. They created a movie that is inspirational not only it's content but in it's ability to show the power of community. To see the trailer\, visit www.savingthegreatswamp.com
X-ALT-DESC;FMTTYPE=text/html:Please join the Chatham Township Historical Society for this informative program given by Scott Morris and Larry Fast and learn about how they made the movie &quot\;Saving the Great Swamp - Battle to Defeat the Jetport.&quot\; It is is a one-hour documentary narrated by Blythe Danner that describes the campaign that took place between 1959 and 1968 to save the Great Swamp. They created a movie that is inspirational not only it&#39\;s content but in it&#39\;s ability to show the power of community. To see the trailer\, visit www.savingthegreatswamp.com
LOCATION:The Chatham Township Municipal Building 58 Meyersville Road\, Chatham Township
UID:e.870.14285
SEQUENCE:3
DTSTAMP:20260421T010524Z
URL:https://business.suburbanchambers.org/events/details/making-the-film-saving-the-great-swamp-14285
END:VEVENT

END:VCALENDAR
