BEGIN:VCALENDAR
VERSION:2.0
PRODID:-//ChamberMaster//Event Calendar 2.0//EN
METHOD:PUBLISH
X-PUBLISHED-TTL:P3D
REFRESH-INTERVAL:P3D
CALSCALE:GREGORIAN
BEGIN:VEVENT
DTSTART:20180928T160000Z
DTEND:20180928T190000Z
X-MICROSOFT-CDO-ALLDAYEVENT:FALSE
SUMMARY:Mah Jongg at Summit YMCA
DESCRIPTION:Come enjoy a friendly game of Mah Jongg\, experienced players Bring current Mah Jongg Card
X-ALT-DESC;FMTTYPE=text/html:Come enjoy a friendly game of Mah Jongg\, experienced players Bring current Mah Jongg Card
LOCATION:Summit YMCA 67 Maple Street Summit NJ 07901
UID:e.870.14256
SEQUENCE:3
DTSTAMP:20260421T010608Z
URL:https://business.suburbanchambers.org/events/details/mah-jongg-at-summit-ymca-09-28-2018-14256
END:VEVENT

END:VCALENDAR
