BEGIN:VCALENDAR
VERSION:2.0
PRODID:-//ChamberMaster//Event Calendar 2.0//EN
METHOD:PUBLISH
X-PUBLISHED-TTL:P3D
REFRESH-INTERVAL:P3D
CALSCALE:GREGORIAN
BEGIN:VEVENT
DTSTART:20190329T160000Z
DTEND:20190329T190000Z
X-MICROSOFT-CDO-ALLDAYEVENT:FALSE
SUMMARY:Mah Jongg
DESCRIPTION:Join your Summit YMCA friends each Friday for an afternoon of MAHJONGG. Connect with others and engage your mind with this fun\, intelligent game that requires your concentration.
X-ALT-DESC;FMTTYPE=text/html:Join your Summit YMCA friends each Friday for an afternoon of MAHJONGG. Connect with others and engage your mind with this fun\, intelligent game that requires your concentration.
LOCATION:Summit YMCA 67 Maple Street Summit NJ 07901
UID:e.870.14943
SEQUENCE:3
DTSTAMP:20260420T074159Z
URL:https://business.suburbanchambers.org/events/details/mah-jongg-03-29-2019-14943
END:VEVENT

END:VCALENDAR
