BEGIN:VCALENDAR
VERSION:2.0
PRODID:-//ChamberMaster//Event Calendar 2.0//EN
METHOD:PUBLISH
X-PUBLISHED-TTL:P3D
REFRESH-INTERVAL:P3D
CALSCALE:GREGORIAN
BEGIN:VEVENT
DTSTART:20190211T173000Z
DTEND:20190211T183000Z
X-MICROSOFT-CDO-ALLDAYEVENT:FALSE
SUMMARY:Lunch & Learn "The Art of Chocolate"
DESCRIPTION:Join us for a fun\, interactive presentation that focuses on all things chocolate. We'll take a look at how it is grown and the history of manufacturing and the candy industry. We'll also delve into some chocolate nostalgia and why the majority of people just love it so much! Best of all though  there will be plenty of "melt in your mouth" treats for tasting.Light lunch served Presented by Barbara Moran \, Liaison Jewish Community Housing Corporation of Metropolitan New Jersey
X-ALT-DESC;FMTTYPE=text/html:Join us for a fun\, interactive presentation that focuses on all things chocolate. We&rsquo\;ll take a look at how it is grown and the history of manufacturing and the candy industry. We&rsquo\;ll also delve into some chocolate nostalgia and why the majority of people just love it so much! Best of all though&hellip\; there will be plenty of &ldquo\;melt in your mouth&rdquo\; treats for tasting.Light lunch served Presented by Barbara Moran \, Liaison Jewish Community Housing Corporation of Metropolitan New Jersey
LOCATION:Summit YMCA 67 Maple Street Summit\, NJ
UID:e.870.14569
SEQUENCE:3
DTSTAMP:20260420T080637Z
URL:https://business.suburbanchambers.org/events/details/lunch-learn-the-art-of-chocolate-14569
END:VEVENT

END:VCALENDAR
