BEGIN:VCALENDAR
VERSION:2.0
PRODID:-//ChamberMaster//Event Calendar 2.0//EN
METHOD:PUBLISH
X-PUBLISHED-TTL:P3D
REFRESH-INTERVAL:P3D
CALSCALE:GREGORIAN
BEGIN:VEVENT
DTSTART:20190325T163000Z
DTEND:20190325T173000Z
X-MICROSOFT-CDO-ALLDAYEVENT:FALSE
SUMMARY:Lunch & Learn "Skin Care as We Age"
DESCRIPTION:Your skin is the largest organ in your body. In this informative discussion\, learn how aging skin changes\, what signs or symptoms to look for\, what products to use that promote quality skin care and which diagnosis or medication affects skin care outcomes. Other issues relating to skin care will be discusses such as Diabetes\, (venous leg ulcers)\, Incontinent Associated Dermatitis (IAD)\, pressure ulcers\, and how nutrition can play a part in keeping your skin health.
X-ALT-DESC;FMTTYPE=text/html:Your skin is the largest organ in your body. In this informative discussion\, learn how aging skin changes\, what signs or symptoms to look for\, what products to use that promote quality skin care and which diagnosis or medication affects skin care outcomes. Other issues relating to skin care will be discusses such as Diabetes\, (venous leg ulcers)\, Incontinent Associated Dermatitis (IAD)\, pressure ulcers\, and how nutrition can play a part in keeping your skin health.
LOCATION:Summit YMCA 67 Maple Street Summit NJ 07901
UID:e.870.14874
SEQUENCE:3
DTSTAMP:20260420T041847Z
URL:https://business.suburbanchambers.org/events/details/lunch-learn-skin-care-as-we-age-14874
END:VEVENT

END:VCALENDAR
