BEGIN:VCALENDAR
VERSION:2.0
PRODID:-//ChamberMaster//Event Calendar 2.0//EN
METHOD:PUBLISH
X-PUBLISHED-TTL:P3D
REFRESH-INTERVAL:P3D
CALSCALE:GREGORIAN
BEGIN:VEVENT
DTSTART:20190513T163000Z
DTEND:20190513T173000Z
X-MICROSOFT-CDO-ALLDAYEVENT:FALSE
SUMMARY:Lunch & learn "Senior Services"
DESCRIPTION:The Caring\, Sharing Network educates seniors about services that are available to them. Hear from members of Right at Home Healthcare\, Visiting Physicians and Knapp Paperwork partners and how they can assist you.
X-ALT-DESC;FMTTYPE=text/html:The Caring\, Sharing Network educates seniors about services that are available to them. Hear from members of Right at Home Healthcare\, Visiting Physicians and Knapp Paperwork partners and how they can assist you.
LOCATION:Summit YMCA 67 Maple Street Summit NJ 07901
UID:e.870.14869
SEQUENCE:3
DTSTAMP:20260419T190047Z
URL:https://business.suburbanchambers.org/events/details/lunch-learn-senior-services-14869
END:VEVENT

END:VCALENDAR
