BEGIN:VCALENDAR
VERSION:2.0
PRODID:-//ChamberMaster//Event Calendar 2.0//EN
METHOD:PUBLISH
X-PUBLISHED-TTL:P3D
REFRESH-INTERVAL:P3D
CALSCALE:GREGORIAN
BEGIN:VEVENT
DTSTART:20190220T170000Z
DTEND:20190220T180000Z
X-MICROSOFT-CDO-ALLDAYEVENT:FALSE
SUMMARY:Lunch & Learn "How to Stay Young"
DESCRIPTION:Americans are living longer than ever! By 2050\, there will be 800\,000 Americans estimated to be living over the age of 100! Join our Lunch & Learn and learn to take responsibility for your health as you age through early intervention. Discover the role that chiropractic care plays in eliminating pain and easing mobility throughout the first 100 years. Lunch and presentation are sponsored by New Providence Chiropractic. WHEN: WEDNESDAY\, FEBRUARY 20 WHERE: BERKELEY HEIGHTS YMCA 550 SPRINGFIELD AVE BERKELEY HEIGHTS TIME: 12:00PM-1:00PM BRING: LUNCH PROVIDED COST: NO COST\, OPEN TO COMMUNITY LISA MCQUILKIN BERKELEY HEIGHTS YMCA WELLNESS DIRECTOR Email: lisa.mcquilkin@thesay.org Phone: 908-464-8373 Ext. 2026
X-ALT-DESC;FMTTYPE=text/html:Americans are living longer than ever! By 2050\, there will be 800\,000 Americans estimated to be living over the age of 100! Join our Lunch &amp\; Learn and learn to take responsibility for your health as you age through early intervention. Discover the role that chiropractic care plays in eliminating pain and easing mobility throughout the first 100 years. Lunch and presentation are sponsored by New Providence Chiropractic. WHEN: WEDNESDAY\, FEBRUARY 20 WHERE: BERKELEY HEIGHTS YMCA 550 SPRINGFIELD AVE BERKELEY HEIGHTS TIME: 12:00PM-1:00PM BRING: LUNCH PROVIDED COST: NO COST\, OPEN TO COMMUNITY LISA MCQUILKIN BERKELEY HEIGHTS YMCA WELLNESS DIRECTOR Email: lisa.mcquilkin@thesay.org Phone: 908-464-8373 Ext. 2026
LOCATION:Berkeley Heights YMCA 550 Springfield Avenue Berkeley Heights\, NJ
UID:e.870.15312
SEQUENCE:3
DTSTAMP:20260420T110240Z
URL:https://business.suburbanchambers.org/events/details/lunch-learn-how-to-stay-young-15312
END:VEVENT

END:VCALENDAR
