BEGIN:VCALENDAR
VERSION:2.0
PRODID:-//ChamberMaster//Event Calendar 2.0//EN
METHOD:PUBLISH
X-PUBLISHED-TTL:P3D
REFRESH-INTERVAL:P3D
CALSCALE:GREGORIAN
BEGIN:VEVENT
DTSTART:20190128T173000Z
DTEND:20190128T183000Z
X-MICROSOFT-CDO-ALLDAYEVENT:FALSE
SUMMARY:Lunch & Learn "Financial Challenges of Women in Retirement"
DESCRIPTION:Susan Cooper\, from Pruco Securities LLC will discuss closing the retirement income gender gap. Women earn 21% less than men\, Women spend 65% more time on unpaid tasks than men\, women save 32% less than their male counterparts. Come understand ways to improve your financial situation. Light lunch served Photo Id required at check in
X-ALT-DESC;FMTTYPE=text/html:Susan Cooper\, from Pruco Securities LLC will discuss closing the retirement income gender gap. Women earn 21% less than men\, Women spend 65% more time on unpaid tasks than men\, women save 32% less than their male counterparts. Come understand ways to improve your financial situation. Light lunch served Photo Id required at check in
LOCATION:Summit YMCA 67 Maple Street Summit NJ
UID:e.870.14568
SEQUENCE:3
DTSTAMP:20260420T145727Z
URL:https://business.suburbanchambers.org/events/details/lunch-learn-financial-challenges-of-women-in-retirement-14568
END:VEVENT

END:VCALENDAR
