BEGIN:VCALENDAR
VERSION:2.0
PRODID:-//ChamberMaster//Event Calendar 2.0//EN
METHOD:PUBLISH
X-PUBLISHED-TTL:P3D
REFRESH-INTERVAL:P3D
CALSCALE:GREGORIAN
BEGIN:VEVENT
DTSTART:20190429T163000Z
DTEND:20190429T173000Z
X-MICROSOFT-CDO-ALLDAYEVENT:FALSE
SUMMARY:Lunch & Learn Bone Density & Body Alignment
DESCRIPTION:Learn about the purpose of bone density tests\, what the results mean\; The difference between osteopenia and osteoporosis\; Lifestyle changes including exercises to be completed\, diet & nutrition. Presented by Olivia Ashley\, PT\, DPT\, OCS Please pre-register at the Member Services Desk 908-273-3330 A light Lunch will be provided
X-ALT-DESC;FMTTYPE=text/html:Learn about the purpose of bone density tests\, what the results mean\; The difference between osteopenia and osteoporosis\; Lifestyle changes including exercises to be completed\, diet &amp\; nutrition. Presented by Olivia Ashley\, PT\, DPT\, OCS Please pre-register at the Member Services Desk 908-273-3330 A light Lunch will be provided
LOCATION:Summit YMCA 67 Maple Street Summit NJ
UID:e.870.14867
SEQUENCE:3
DTSTAMP:20260419T230500Z
URL:https://business.suburbanchambers.org/events/details/lunch-learn-bone-density-body-alignment-14867
END:VEVENT

END:VCALENDAR
