BEGIN:VCALENDAR
VERSION:2.0
PRODID:-//ChamberMaster//Event Calendar 2.0//EN
METHOD:PUBLISH
X-PUBLISHED-TTL:P3D
REFRESH-INTERVAL:P3D
CALSCALE:GREGORIAN
BEGIN:VEVENT
DTSTART:20190210T200000Z
DTEND:20190210T220000Z
X-MICROSOFT-CDO-ALLDAYEVENT:FALSE
SUMMARY:Love Songs of the 60s & 70s
DESCRIPTION:Professional guitarist Rob Heinink will perform love songs of the 60s and 70s. This free concert was made possible by the Friends of the NPML.
X-ALT-DESC;FMTTYPE=text/html:Professional guitarist Rob Heinink will perform love songs of the 60s and 70s. This free concert was made possible by the Friends of the NPML.
LOCATION:New Providence Memorial Library
UID:e.870.15190
SEQUENCE:3
DTSTAMP:20260420T115819Z
URL:https://business.suburbanchambers.org/events/details/love-songs-of-the-60s-70s-15190
END:VEVENT

END:VCALENDAR
