BEGIN:VCALENDAR
VERSION:2.0
PRODID:-//ChamberMaster//Event Calendar 2.0//EN
METHOD:PUBLISH
X-PUBLISHED-TTL:P3D
REFRESH-INTERVAL:P3D
CALSCALE:GREGORIAN
BEGIN:VEVENT
DTSTART:20180912T220000Z
DTEND:20180913T000000Z
X-MICROSOFT-CDO-ALLDAYEVENT:FALSE
SUMMARY:Living Options As We Age - Panel Discussion
DESCRIPTION:Come learn about the variety of living options available to older adults and their families. Our panel includes experts from the fields of long term care\, assisted living\, skilled nurses as well as hospice care\, home care\, care planning and support and adult day programs. Refreshments will be served.
X-ALT-DESC;FMTTYPE=text/html:Come learn about the variety of living options available to older adults and their families. Our panel includes experts from the fields of long term care\, assisted living\, skilled nurses as well as hospice care\, home care\, care planning and support and adult day programs. Refreshments will be served.
LOCATION:SAGE Eldercare 290 Broad Street Summit NJ 07901
UID:e.870.14352
SEQUENCE:3
DTSTAMP:20260421T005745Z
URL:https://business.suburbanchambers.org/events/details/living-options-as-we-age-panel-discussion-14352
END:VEVENT

END:VCALENDAR
