BEGIN:VCALENDAR
VERSION:2.0
PRODID:-//ChamberMaster//Event Calendar 2.0//EN
METHOD:PUBLISH
X-PUBLISHED-TTL:P3D
REFRESH-INTERVAL:P3D
CALSCALE:GREGORIAN
BEGIN:VEVENT
DTSTART:20181202T213000Z
DTEND:20181202T230000Z
X-MICROSOFT-CDO-ALLDAYEVENT:FALSE
SUMMARY:Living Nativity
DESCRIPTION:Come and see the Christmas Story retold with costumed actors and live animals on the lawn of Central Presbyterian Church. Crafts\, caroling\, cookies\, and cocoa follow in the church auditorium.
X-ALT-DESC;FMTTYPE=text/html:Come and see the Christmas Story retold with costumed actors and live animals on the lawn of Central Presbyterian Church. Crafts\, caroling\, cookies\, and cocoa follow in the church auditorium.&nbsp\;
LOCATION:Central Presbyterian Church 70 Maple Street Summit\, NJ
UID:e.870.14394
SEQUENCE:3
DTSTAMP:20260420T150839Z
URL:https://business.suburbanchambers.org/events/details/living-nativity-14394
END:VEVENT

END:VCALENDAR
