BEGIN:VCALENDAR
VERSION:2.0
PRODID:-//ChamberMaster//Event Calendar 2.0//EN
METHOD:PUBLISH
X-PUBLISHED-TTL:P3D
REFRESH-INTERVAL:P3D
CALSCALE:GREGORIAN
BEGIN:VEVENT
DTSTART:20230110T170000Z
DTEND:20230110T183000Z
X-MICROSOFT-CDO-ALLDAYEVENT:FALSE
SUMMARY:Live Q & A with Bob Burg
DESCRIPTION:An Interview with Bob Burg\, International Best-Selling Author of 'The Go-Giver' Over 1 million copies of The Go-Giver have been sold and now you have a rare opportunity meet international best-selling author Bob Burg! The Go-Giver took the business world by storm with a simple yet prolific message: shifting our focus from getting to giving (constantly and consistently providing value to others) is not only a fulfilling way to live life and conduct business\, but the most profitable way\, as well. The book has been the impetus for corporate cultural shifts and has led to a movement based upon the Five Laws of Stratospheric Success:   The Law of Value   The Law of Compensation   The Law of Influence   The Law of Authenticity   The Law of Receptivity
X-ALT-DESC;FMTTYPE=text/html:An Interview with Bob Burg\, International Best-Selling Author of &lsquo\;The Go-Giver&rsquo\; Over 1 million copies of The Go-Giver have been sold and now you have a rare opportunity meet international best-selling author Bob Burg! The Go-Giver took the business world by storm with a simple yet prolific message: shifting our focus from getting to giving (constantly and consistently providing value to others) is not only a fulfilling way to live life and conduct business\, but the most profitable way\, as well. The book has been the impetus for corporate cultural shifts and has led to a movement based upon the Five Laws of Stratospheric Success: &bull\; The Law of Value &bull\; The Law of Compensation &bull\; The Law of Influence &bull\; The Law of Authenticity &bull\; The Law of Receptivity
LOCATION:Virtual
UID:e.870.18306
SEQUENCE:3
DTSTAMP:20260423T201423Z
URL:https://business.suburbanchambers.org/events/details/live-q-a-with-bob-burg-18306
END:VEVENT

END:VCALENDAR
