BEGIN:VCALENDAR
VERSION:2.0
PRODID:-//ChamberMaster//Event Calendar 2.0//EN
METHOD:PUBLISH
X-PUBLISHED-TTL:P3D
REFRESH-INTERVAL:P3D
CALSCALE:GREGORIAN
BEGIN:VEVENT
DTSTART:20180519T133000Z
DTEND:20180519T150000Z
X-MICROSOFT-CDO-ALLDAYEVENT:FALSE
SUMMARY:Let's Get Growing for Kids: Squirmy Wormies
DESCRIPTION:(for children ages 5 to 10) Have you ever wondered what it is like to be a worm? In this class gardeners will discover the secret lives of worms\; what they do when no one's watching\; what they eat\; how they communicate\; and how they grow. Registration is required.
X-ALT-DESC;FMTTYPE=text/html:(for children ages 5 to 10) Have you ever wondered what it is like to be a worm? In this class gardeners will discover the secret lives of worms\; what they do when no one&#39\;s watching\; what they eat\; how they communicate\; and how they grow. Registration is required.
LOCATION:Reeves-Reed Arboretum 165 Hobart Ave. Summit\, NJ 07901
UID:e.870.11875
SEQUENCE:3
DTSTAMP:20260421T125922Z
URL:https://business.suburbanchambers.org/events/details/let-s-get-growing-for-kids-squirmy-wormies-11875
END:VEVENT

END:VCALENDAR
