BEGIN:VCALENDAR
VERSION:2.0
PRODID:-//ChamberMaster//Event Calendar 2.0//EN
METHOD:PUBLISH
X-PUBLISHED-TTL:P3D
REFRESH-INTERVAL:P3D
CALSCALE:GREGORIAN
BEGIN:VEVENT
DTSTART:20180428T133000Z
DTEND:20180429T030000Z
X-MICROSOFT-CDO-ALLDAYEVENT:FALSE
SUMMARY:Let's Get Growing for Kids: Let's Get Digging! at Reeves-Reed Arboretum
DESCRIPTION:For children ages 5 to 10- Join RRA Educator Althea Llewellyn in the garden to dig in the soil\, and plant some flowers and veggies! When the work is done\, participants will head inside for a special treat. Registration is required.
X-ALT-DESC;FMTTYPE=text/html:For children ages 5 to 10- Join RRA Educator Althea Llewellyn in the garden to dig in the soil\, and plant some flowers and veggies! When the work is done\, participants will head inside for a special treat. Registration is required.&nbsp\;
LOCATION:Reeves-Reed Arboretum 165 Hobart Ave. Summit\, NJ 07901
UID:e.870.11777
SEQUENCE:3
DTSTAMP:20260421T193414Z
URL:https://business.suburbanchambers.org/events/details/let-s-get-growing-for-kids-let-s-get-digging-at-reeves-reed-arboretum-11777
END:VEVENT

END:VCALENDAR
