BEGIN:VCALENDAR
VERSION:2.0
PRODID:-//ChamberMaster//Event Calendar 2.0//EN
METHOD:PUBLISH
X-PUBLISHED-TTL:P3D
REFRESH-INTERVAL:P3D
CALSCALE:GREGORIAN
BEGIN:VEVENT
DTSTART:20181027T130000Z
DTEND:20181027T143000Z
X-MICROSOFT-CDO-ALLDAYEVENT:FALSE
SUMMARY:Let's Get Growing for Kids: Garden Scavenger Hunt!
DESCRIPTION:(for children ages 5 to 10) On the grounds of the Arboretum we will search high and low for special hidden items. When our hunt is over we'll head to the historic Wisner House kitchen to enjoy a special Fall treat. Registration is required. This program is supported\, in part\, through grants from the Junior League of Summit and the Summit Area Public Foundation.
X-ALT-DESC;FMTTYPE=text/html:(for children ages 5 to 10) On the grounds of the Arboretum we will search high and low for special hidden items. When our hunt is over we&#39\;ll head to the historic Wisner House kitchen to enjoy a special Fall treat. Registration is required. This program is supported\, in part\, through grants from the Junior League of Summit and the Summit Area Public Foundation.&nbsp\;
LOCATION:Reeves-Reed Arboretum 165 Hobart Ave. Summit\, NJ 07901
UID:e.870.14527
SEQUENCE:3
DTSTAMP:20260420T220906Z
URL:https://business.suburbanchambers.org/events/details/let-s-get-growing-for-kids-garden-scavenger-hunt-14527
END:VEVENT

END:VCALENDAR
