BEGIN:VCALENDAR
VERSION:2.0
PRODID:-//ChamberMaster//Event Calendar 2.0//EN
METHOD:PUBLISH
X-PUBLISHED-TTL:P3D
REFRESH-INTERVAL:P3D
CALSCALE:GREGORIAN
BEGIN:VEVENT
DTSTART:20180407T133000Z
DTEND:20180407T150000Z
X-MICROSOFT-CDO-ALLDAYEVENT:FALSE
SUMMARY:Let's Get Growing for Kids: Garden In A Box at Reeves-Reed Arboretum
DESCRIPTION:(for children ages 5 to 10) Create a miniature herb and flower garden to take home. Have fragrant and fresh herbs at your fingertips everyday! Registration is required. This program is supported\, in part\, through grants from the Junior League of Summit and the Summit Area Public Foundation.
X-ALT-DESC;FMTTYPE=text/html:(for children ages 5 to 10) Create a miniature herb and flower garden to take home. Have fragrant and fresh herbs at your fingertips everyday! Registration is required. This program is supported\, in part\, through grants from the Junior League of Summit and the Summit Area Public Foundation.&nbsp\;
LOCATION:Reeves-Reed Arboretum 165 Hobart Ave. Summit\, NJ 07901
UID:e.870.11770
SEQUENCE:3
DTSTAMP:20260421T161333Z
URL:https://business.suburbanchambers.org/events/details/let-s-get-growing-for-kids-garden-in-a-box-at-reeves-reed-arboretum-11770
END:VEVENT

END:VCALENDAR
