BEGIN:VCALENDAR
VERSION:2.0
PRODID:-//ChamberMaster//Event Calendar 2.0//EN
METHOD:PUBLISH
X-PUBLISHED-TTL:P3D
REFRESH-INTERVAL:P3D
CALSCALE:GREGORIAN
BEGIN:VEVENT
DTSTART:20180616T133000Z
DTEND:20180616T150000Z
X-MICROSOFT-CDO-ALLDAYEVENT:FALSE
SUMMARY:Let's Get Growing for Kids: Critter Crawl at Reeves-Reed Arboretum
DESCRIPTION:There's an entire world of animals hidden from our eyes. Let's uncover these amazing garden creatures as we explore this unseen world. Registration is required. This program is supported\, in part\, through grants from the Junior League of Summit and the Summit Area Public Foundation.
X-ALT-DESC;FMTTYPE=text/html:There&#39\;s an entire world of animals hidden from our eyes. Let&#39\;s uncover these amazing garden creatures as we explore this unseen world. Registration is required. This program is supported\, in part\, through grants from the Junior League of Summit and the Summit Area Public Foundation.&nbsp\;
LOCATION:Reeves-Reed Arboretum 165 Hobart Ave. Summit\, NJ 07901
UID:e.870.13078
SEQUENCE:3
DTSTAMP:20260421T101735Z
URL:https://business.suburbanchambers.org/events/details/let-s-get-growing-for-kids-critter-crawl-at-reeves-reed-arboretum-13078
END:VEVENT

END:VCALENDAR
