BEGIN:VCALENDAR
VERSION:2.0
PRODID:-//ChamberMaster//Event Calendar 2.0//EN
METHOD:PUBLISH
X-PUBLISHED-TTL:P3D
REFRESH-INTERVAL:P3D
CALSCALE:GREGORIAN
BEGIN:VEVENT
DTSTART:20180822T133000Z
DTEND:20180822T153000Z
X-MICROSOFT-CDO-ALLDAYEVENT:FALSE
SUMMARY:Let's Get Growing for Kids: Creatures in the Garden at Reeves-Reed Arboretum
DESCRIPTION:(for children ages 5 to 10) Get ready to get become detectives and go explore the garden in search of some of the creatures that slither and crawl\, chop and chew. We will learn some fascinating facts about these creatures including whether they are friend or foe. Registration is required. This program is supported\, in part\, through grants from the Junior League of Summit and the Summit Area Public Foundation.
X-ALT-DESC;FMTTYPE=text/html:(for children ages 5 to 10) Get ready to get become detectives and go explore the garden in search of some of the creatures that slither and crawl\, chop and chew. We will learn some fascinating facts about these creatures including whether they are friend or foe. Registration is required. This program is supported\, in part\, through grants from the Junior League of Summit and the Summit Area Public Foundation.
LOCATION:Reeves-Reed Arboretum 165 Hobart Ave. Summit\, NJ 07901
UID:e.870.14373
SEQUENCE:3
DTSTAMP:20260421T042205Z
URL:https://business.suburbanchambers.org/events/details/let-s-get-growing-for-kids-creatures-in-the-garden-at-reeves-reed-arboretum-14373
END:VEVENT

END:VCALENDAR
