BEGIN:VCALENDAR
VERSION:2.0
PRODID:-//ChamberMaster//Event Calendar 2.0//EN
METHOD:PUBLISH
X-PUBLISHED-TTL:P3D
REFRESH-INTERVAL:P3D
CALSCALE:GREGORIAN
BEGIN:VEVENT
DTSTART:20180711T133000Z
DTEND:20180711T153000Z
X-MICROSOFT-CDO-ALLDAYEVENT:FALSE
SUMMARY:Let's Get Growin for Kids: Learn\, Grow\, Eat at Reeves-Reed Arboretum
DESCRIPTION:(for children ages 5 to 10) It's simple and fun to grow your own cucumbers\, carrots\, kale and tomatoes\, and even more fun to eat them! Join us in the garden as we learn\, grow\, eat and get dirty! Registration is required. This program is supported\, in part\, through grants from the Junior League of Summit and the Summit Area Public Foundation. Date/Time: Saturday\, July 11\, 9:30am to 11:00am. Location: Reeves-Reed Arboretum\, 165 Hobart Ave.\, Summit\, NJ 07901 Ages: 5 - 10. Cost: Members $10\, Non-member $25. Pre-Registration: Required. On-Line Registration: Visit our website More Information: RRA Website Contact: Doreen Schindler\, D.Schindler@Reeves-ReedArboretum.org\, (908) 273-8787 x1010.
X-ALT-DESC;FMTTYPE=text/html:(for children ages 5 to 10) It&#39\;s simple and fun to grow your own cucumbers\, carrots\, kale and tomatoes\, and even more fun to eat them! Join us in the garden as we learn\, grow\, eat and get dirty! Registration is required. This program is supported\, in part\, through grants from the Junior League of Summit and the Summit Area Public Foundation. Date/Time: Saturday\, July 11\, 9:30am to 11:00am. Location: Reeves-Reed Arboretum\, 165 Hobart Ave.\, Summit\, NJ 07901 Ages: 5 - 10. Cost: Members $10\, Non-member $25. Pre-Registration: Required. On-Line Registration: Visit our website More Information: RRA Website Contact: Doreen Schindler\, D.Schindler@Reeves-ReedArboretum.org\, (908) 273-8787 x1010.
LOCATION:Reeves-Reed Arboretum 165 Hobart Ave. Summit\, NJ 07901
UID:e.870.14110
SEQUENCE:3
DTSTAMP:20260421T072615Z
URL:https://business.suburbanchambers.org/events/details/let-s-get-growin-for-kids-learn-grow-eat-at-reeves-reed-arboretum-14110
END:VEVENT

END:VCALENDAR
