BEGIN:VCALENDAR
VERSION:2.0
PRODID:-//ChamberMaster//Event Calendar 2.0//EN
METHOD:PUBLISH
X-PUBLISHED-TTL:P3D
REFRESH-INTERVAL:P3D
CALSCALE:GREGORIAN
BEGIN:VEVENT
DTSTART:20190403T230000Z
DTEND:20190404T000000Z
X-MICROSOFT-CDO-ALLDAYEVENT:FALSE
SUMMARY:Lenten Service
DESCRIPTION:Join us on the Journey! The Lenten Journey to Easter is one of self-examination and reflection. Join us each week for a service of worship\, exploring the unique challenges of being a person of faith in our world. Wednesdays\, March 13\, 2019 through April 10\, 2019 7:00 pm The United Methodist Church of Summit Corner of Kent Place Boulevard and DeForest Avenue In the Chapel (DeForest Avenue Entrance) All are welcome!
X-ALT-DESC;FMTTYPE=text/html:Join us on the Journey! The Lenten Journey to Easter is one of self-examination and reflection. Join us each week for a service of worship\, exploring the unique challenges of being a person of faith in our world. Wednesdays\, March 13\, 2019 through April 10\, 2019 7:00 pm The United Methodist Church of Summit Corner of Kent Place Boulevard and DeForest Avenue In the Chapel (DeForest Avenue Entrance) All are welcome!
LOCATION:The United Methodist Church of Summit - chapel 17 Kent Place Boulevard Summit\, NJ 07901
UID:e.870.15323
SEQUENCE:3
DTSTAMP:20260420T035555Z
URL:https://business.suburbanchambers.org/events/details/lenten-service-04-03-2019-15323
END:VEVENT

END:VCALENDAR
