BEGIN:VCALENDAR
VERSION:2.0
PRODID:-//ChamberMaster//Event Calendar 2.0//EN
METHOD:PUBLISH
X-PUBLISHED-TTL:P3D
REFRESH-INTERVAL:P3D
CALSCALE:GREGORIAN
BEGIN:VEVENT
DTSTART:20190424T180000Z
DTEND:20190424T193000Z
X-MICROSOFT-CDO-ALLDAYEVENT:FALSE
SUMMARY:Learn to Control Your Diabetes
DESCRIPTION:Quality Insights to present "Learn to Control Your Diabetes" at SAGE. This six week workshop for any person with Medicare who has diabetes\, will cover topics including: understanding risk factors\, nutrition\, identification\, prevention\, medications\, medical care and how to mobilize family and friends. To register\, please call Jarmaine Williams at 732-955-8168.
X-ALT-DESC;FMTTYPE=text/html:Quality Insights to present &quot\;Learn to Control Your Diabetes&quot\; at SAGE. This six week workshop for any person with Medicare who has diabetes\, will cover topics including: understanding risk factors\, nutrition\, identification\, prevention\, medications\, medical care and how to mobilize family and friends. To register\, please call Jarmaine Williams at 732-955-8168.
LOCATION:SAGE Eldercare 290 Broad Street Summit
UID:e.870.15378
SEQUENCE:3
DTSTAMP:20260419T234617Z
URL:https://business.suburbanchambers.org/events/details/learn-to-control-your-diabetes-15378
END:VEVENT

END:VCALENDAR
