BEGIN:VCALENDAR
VERSION:2.0
PRODID:-//ChamberMaster//Event Calendar 2.0//EN
METHOD:PUBLISH
X-PUBLISHED-TTL:P3D
REFRESH-INTERVAL:P3D
CALSCALE:GREGORIAN
BEGIN:VEVENT
DTSTART:20190415T193000Z
DTEND:20190415T203000Z
X-MICROSOFT-CDO-ALLDAYEVENT:FALSE
SUMMARY:Kids Crafternoon
DESCRIPTION:Get crafty with us and make a pretty springtime craft perfect to brighten up your room or give as a gift this upcoming Mother's Day!
X-ALT-DESC;FMTTYPE=text/html:Get crafty with us and make a pretty springtime craft perfect to brighten up your room or give as a gift this upcoming Mother&rsquo\;s Day!
LOCATION:New Providence Memorial Library
UID:e.870.15360
SEQUENCE:3
DTSTAMP:20260419T234823Z
URL:https://business.suburbanchambers.org/events/details/kids-crafternoon-15360
END:VEVENT

END:VCALENDAR
