BEGIN:VCALENDAR
VERSION:2.0
PRODID:-//ChamberMaster//Event Calendar 2.0//EN
METHOD:PUBLISH
X-PUBLISHED-TTL:P3D
REFRESH-INTERVAL:P3D
CALSCALE:GREGORIAN
BEGIN:VEVENT
DTSTART:20180530T200000Z
DTEND:20180530T213000Z
X-MICROSOFT-CDO-ALLDAYEVENT:FALSE
SUMMARY:Kids Can Cook! Savory Eats at Reeves-Reed Arboretum
DESCRIPTION:(for children ages 5 to 10) Practice your culinary skills   chopping\, dicing\, and mincing as you create savory eats! Registration is required.
X-ALT-DESC;FMTTYPE=text/html:(for children ages 5 to 10) Practice your culinary skills &ndash\; chopping\, dicing\, and mincing as you create savory eats! Registration is required.&nbsp\;
LOCATION:Reeves-Reed Arboretum 165 Hobart Ave. Summit\, NJ 07901
UID:e.870.11883
SEQUENCE:3
DTSTAMP:20260421T130121Z
URL:https://business.suburbanchambers.org/events/details/kids-can-cook-savory-eats-at-reeves-reed-arboretum-11883
END:VEVENT

END:VCALENDAR
