BEGIN:VCALENDAR
VERSION:2.0
PRODID:-//ChamberMaster//Event Calendar 2.0//EN
METHOD:PUBLISH
X-PUBLISHED-TTL:P3D
REFRESH-INTERVAL:P3D
CALSCALE:GREGORIAN
BEGIN:VEVENT
DTSTART:20181229T003000Z
DTEND:20181229T033000Z
X-MICROSOFT-CDO-ALLDAYEVENT:FALSE
SUMMARY:Karyn Oliver at the Minstrel
DESCRIPTION:Pepper and Sassafras open. Free parking\; wheelchair accessible.
X-ALT-DESC;FMTTYPE=text/html:Pepper and Sassafras open. Free parking\; wheelchair accessible.
LOCATION:Morristown Unitarian Fellowship 21 Normandy Heights Road Morristown\, NJ 07960
UID:e.870.14722
SEQUENCE:3
DTSTAMP:20260420T145015Z
URL:https://business.suburbanchambers.org/events/details/karyn-oliver-at-the-minstrel-14722
END:VEVENT

END:VCALENDAR
