BEGIN:VCALENDAR
VERSION:2.0
PRODID:-//ChamberMaster//Event Calendar 2.0//EN
METHOD:PUBLISH
X-PUBLISHED-TTL:P3D
REFRESH-INTERVAL:P3D
CALSCALE:GREGORIAN
BEGIN:VEVENT
DTSTART:20190224T000000Z
DTEND:20190224T030000Z
X-MICROSOFT-CDO-ALLDAYEVENT:FALSE
SUMMARY:Junior League Trivia Night
DESCRIPTION:4th Annual JLS Trivia Night Seating is limited Tables will go on sale Wednesday\, January 23rd at noon. All proceeds will benefit the JLS Annual Fund supporting community grants\, scholarships\, and projects
X-ALT-DESC;FMTTYPE=text/html:4th Annual JLS Trivia Night Seating is limited Tables will go on sale Wednesday\, January 23rd at noon. All proceeds will benefit the JLS Annual Fund supporting community grants\, scholarships\, and projects
LOCATION:Chatham Fish & Game 41 Fairmount Ave.\, Chatham
UID:e.870.15274
SEQUENCE:3
DTSTAMP:20260420T075727Z
URL:https://business.suburbanchambers.org/events/details/junior-league-trivia-night-15274
END:VEVENT

END:VCALENDAR
