BEGIN:VCALENDAR
VERSION:2.0
PRODID:-//ChamberMaster//Event Calendar 2.0//EN
METHOD:PUBLISH
X-PUBLISHED-TTL:P3D
REFRESH-INTERVAL:P3D
CALSCALE:GREGORIAN
BEGIN:VEVENT
DTSTART:20190322T133000Z
DTEND:20190322T183000Z
X-MICROSOFT-CDO-ALLDAYEVENT:FALSE
SUMMARY:Junior League Thrift Shop - Spring Fling
DESCRIPTION:Join the Summit Junior League for our Thrift Shop Spring Fling - featuring clothing\, accessories and home decor.
X-ALT-DESC;FMTTYPE=text/html:Join the Summit Junior League for our Thrift Shop Spring Fling - featuring clothing\, accessories and home decor.
LOCATION:37 DeForest Ave Summit\, NJ
UID:e.870.15386
SEQUENCE:3
DTSTAMP:20260420T042111Z
URL:https://business.suburbanchambers.org/events/details/junior-league-thrift-shop-spring-fling-03-22-2019-15386
END:VEVENT

END:VCALENDAR
