BEGIN:VCALENDAR
VERSION:2.0
PRODID:-//ChamberMaster//Event Calendar 2.0//EN
METHOD:PUBLISH
X-PUBLISHED-TTL:P3D
REFRESH-INTERVAL:P3D
CALSCALE:GREGORIAN
BEGIN:VEVENT
DTSTART:20190502T133000Z
DTEND:20190503T000000Z
X-MICROSOFT-CDO-ALLDAYEVENT:FALSE
SUMMARY:Junior League Thrift Shop - Jewelry & Handbag Event
DESCRIPTION:Join us for this special event celebrating mothers!
X-ALT-DESC;FMTTYPE=text/html:Join us for this special event celebrating mothers!
LOCATION:37 Deforest Ave\, Summit\, NJ
UID:e.870.15449
SEQUENCE:3
DTSTAMP:20260419T192441Z
URL:https://business.suburbanchambers.org/events/details/junior-league-thrift-shop-jewelry-handbag-event-15449
END:VEVENT

END:VCALENDAR
