BEGIN:VCALENDAR
VERSION:2.0
PRODID:-//ChamberMaster//Event Calendar 2.0//EN
METHOD:PUBLISH
X-PUBLISHED-TTL:P3D
REFRESH-INTERVAL:P3D
CALSCALE:GREGORIAN
BEGIN:VEVENT
DTSTART:20190110T143000Z
DTEND:20190111T010000Z
X-MICROSOFT-CDO-ALLDAYEVENT:FALSE
SUMMARY:Junior League Thrift Shop Fitness Event
DESCRIPTION:SHOP FOR WORKOUT CLOTHES AND ACCESSORIES TO START YOUR NEW YEAR FITNESS RESOLUTIONS OFF RIGHT!
X-ALT-DESC;FMTTYPE=text/html:SHOP FOR WORKOUT CLOTHES AND ACCESSORIES TO START YOUR NEW YEAR FITNESS RESOLUTIONS OFF RIGHT!
LOCATION:37 DeForest Ave.\, Summit\, NJ
UID:e.870.15182
SEQUENCE:3
DTSTAMP:20260420T115819Z
URL:https://business.suburbanchambers.org/events/details/junior-league-thrift-shop-fitness-event-15182
END:VEVENT

END:VCALENDAR
