BEGIN:VCALENDAR
VERSION:2.0
PRODID:-//ChamberMaster//Event Calendar 2.0//EN
METHOD:PUBLISH
X-PUBLISHED-TTL:P3D
REFRESH-INTERVAL:P3D
CALSCALE:GREGORIAN
BEGIN:VEVENT
DTSTART:20190524T133000Z
DTEND:20190524T183000Z
X-MICROSOFT-CDO-ALLDAYEVENT:FALSE
SUMMARY:Junior League Thrift Shop - Beach Blast
DESCRIPTION:Everything you need for summer: summer clothing\, beachwear\, sandals\, beach bags & toys
X-ALT-DESC;FMTTYPE=text/html:Everything you need for summer: summer clothing\, beachwear\, sandals\, beach bags &amp\; toys
LOCATION:37 DeForest Ave
UID:e.870.15497
SEQUENCE:3
DTSTAMP:20260419T191730Z
URL:https://business.suburbanchambers.org/events/details/junior-league-thrift-shop-beach-blast-05-24-2019-15497
END:VEVENT

END:VCALENDAR
