BEGIN:VCALENDAR
VERSION:2.0
PRODID:-//ChamberMaster//Event Calendar 2.0//EN
METHOD:PUBLISH
X-PUBLISHED-TTL:P3D
REFRESH-INTERVAL:P3D
CALSCALE:GREGORIAN
BEGIN:VEVENT
DTSTART:20181011T133000Z
DTEND:20181012T183000Z
X-MICROSOFT-CDO-ALLDAYEVENT:FALSE
SUMMARY:Junior League of Summit Thrift Shop Coat Event
DESCRIPTION:The Junior League of Summit Thrift Shop's Coat Event will take place Thursday\, October 11 from 9:30 AM to 8:00 PM and Friday\, October 12 from 9:30 AM to 2:30 PM at the Parish Hall in Calvary Church (31 Woodland Avenue\, Summit) and the Thrift Shop (37 DeForest Avenue\, Summit). The annual event features incredible deals on gently used adult and children's winter coats and accessories.
X-ALT-DESC;FMTTYPE=text/html:The Junior League of Summit Thrift Shop&rsquo\;s Coat Event will take place Thursday\, October 11 from 9:30 AM to 8:00 PM and Friday\, October 12 from 9:30 AM to 2:30 PM at the Parish Hall in Calvary Church (31 Woodland Avenue\, Summit) and the Thrift Shop (37 DeForest Avenue\, Summit). The annual event features incredible deals on gently used adult and children&rsquo\;s winter coats and accessories.
LOCATION:Junior League of Summit Thrift Shop\, 37 DeForest Avenue\, Summit\, New Jersey
UID:e.870.14513
SEQUENCE:3
DTSTAMP:20260420T221033Z
URL:https://business.suburbanchambers.org/events/details/junior-league-of-summit-thrift-shop-coat-event-14513
END:VEVENT

END:VCALENDAR
