BEGIN:VCALENDAR
VERSION:2.0
PRODID:-//ChamberMaster//Event Calendar 2.0//EN
METHOD:PUBLISH
X-PUBLISHED-TTL:P3D
REFRESH-INTERVAL:P3D
CALSCALE:GREGORIAN
BEGIN:VEVENT
DTSTART:20190119T003000Z
DTEND:20190119T033000Z
X-MICROSOFT-CDO-ALLDAYEVENT:FALSE
SUMMARY:John Forster at the Minstrel
DESCRIPTION:Judy Kass opens. Wheelchair accessible\; free parking.
X-ALT-DESC;FMTTYPE=text/html:Judy Kass opens. Wheelchair accessible\; free parking.
LOCATION:Morristown Unitarian Fellowship 21 Normandy Heights Road Morristown NJ 07960
UID:e.870.14842
SEQUENCE:3
DTSTAMP:20260420T145331Z
URL:https://business.suburbanchambers.org/events/details/john-forster-at-the-minstrel-01-18-2019-14842
END:VEVENT

END:VCALENDAR
