BEGIN:VCALENDAR
VERSION:2.0
PRODID:-//ChamberMaster//Event Calendar 2.0//EN
METHOD:PUBLISH
X-PUBLISHED-TTL:P3D
REFRESH-INTERVAL:P3D
CALSCALE:GREGORIAN
BEGIN:VEVENT
DTSTART:20190126T003000Z
DTEND:20190126T033000Z
X-MICROSOFT-CDO-ALLDAYEVENT:FALSE
SUMMARY:Joan and Joni at the Minstrel
DESCRIPTION:A tribute to Joan Baez and Joni Mitchell\, performed by Allison Shapira and Kipyn Martin. Opening act to be announced\; please check our website. Wheelchair accessible\; free parking.
X-ALT-DESC;FMTTYPE=text/html:A tribute to Joan Baez and Joni Mitchell\, performed by Allison Shapira and Kipyn Martin. Opening act to be announced\; please check our website. Wheelchair accessible\; free parking.
LOCATION:Morristown Unitarian Fellowship 21 Normandy Heights Road Morristown NJ 07960
UID:e.870.14843
SEQUENCE:3
DTSTAMP:20260420T114055Z
URL:https://business.suburbanchambers.org/events/details/joan-and-joni-at-the-minstrel-14843
END:VEVENT

END:VCALENDAR
