BEGIN:VCALENDAR
VERSION:2.0
PRODID:-//ChamberMaster//Event Calendar 2.0//EN
METHOD:PUBLISH
X-PUBLISHED-TTL:P3D
REFRESH-INTERVAL:P3D
CALSCALE:GREGORIAN
BEGIN:VEVENT
DTSTART;VALUE=DATE:20181214
DTEND;VALUE=DATE:20181215
TRANSP:TRANSPARENT
X-MICROSOFT-CDO-ALLDAYEVENT:TRUE
SUMMARY:Invisalign Day
DESCRIPTION:Come in to New Providence Dentistry for your free Invisalign consultation!  If you decide to receive Invisalign treatment on this day (Dec 14) you will receive Complimentary Teeth Whitening and $500 off your treatment.  Space is limited to the first 12 appointments.
X-ALT-DESC;FMTTYPE=text/html:Come in to New Providence Dentistry for your free Invisalign consultation!&nbsp\; If you decide to receive Invisalign treatment on this day (Dec 14) you will receive Complimentary Teeth Whitening and $500 off your treatment.&nbsp\; Space is limited to the first 12 appointments.
LOCATION:571 Central Ave\, Suite 100\, New Providence NJ
UID:e.870.14713
SEQUENCE:3
DTSTAMP:20260420T150513Z
URL:https://business.suburbanchambers.org/events/details/invisalign-day-14713
END:VEVENT

END:VCALENDAR
