BEGIN:VCALENDAR
VERSION:2.0
PRODID:-//ChamberMaster//Event Calendar 2.0//EN
METHOD:PUBLISH
X-PUBLISHED-TTL:P3D
REFRESH-INTERVAL:P3D
CALSCALE:GREGORIAN
BEGIN:VEVENT
DTSTART:20190119T150000Z
DTEND:20190119T170000Z
X-MICROSOFT-CDO-ALLDAYEVENT:FALSE
SUMMARY:Instant Pot Basics
DESCRIPTION:Leslie Corey will demonstrate how to use an Instant Pot to make basics like pasta\, mashed potatoes\, eggs in minutes. Free\, please RSVP to npmlref@yahoo.com or 908-665-0311. Snow date: Jan 26
X-ALT-DESC;FMTTYPE=text/html:Leslie Corey will demonstrate how to use an Instant Pot to make basics like pasta\, mashed potatoes\, eggs in minutes. Free\, please RSVP to npmlref@yahoo.com or 908-665-0311. Snow date: Jan 26
LOCATION:New Providence Memorial Library
UID:e.870.15203
SEQUENCE:3
DTSTAMP:20260420T112026Z
URL:https://business.suburbanchambers.org/events/details/instant-pot-basics-15203
END:VEVENT

END:VCALENDAR
