BEGIN:VCALENDAR
VERSION:2.0
PRODID:-//ChamberMaster//Event Calendar 2.0//EN
METHOD:PUBLISH
X-PUBLISHED-TTL:P3D
REFRESH-INTERVAL:P3D
CALSCALE:GREGORIAN
BEGIN:VEVENT
DTSTART:20190417T193000Z
DTEND:20190417T203000Z
X-MICROSOFT-CDO-ALLDAYEVENT:FALSE
SUMMARY:Insectropolis: Bugs on the Go!
DESCRIPTION:Explore the mini universe of bugs! Through live\, touchable bugs as well as exotic pinned specimens\, participants will explore the lives and challenges of these tiny creatures. Registration is required and is limited.
X-ALT-DESC;FMTTYPE=text/html:Explore the mini universe of bugs! Through live\, touchable bugs as well as exotic pinned specimens\, participants will explore the lives and challenges of these tiny creatures. Registration is required and is limited.
LOCATION:http://www.newprovidencelibrary.org/
UID:e.870.15363
SEQUENCE:3
DTSTAMP:20260419T231333Z
URL:https://business.suburbanchambers.org/events/details/insectropolis-bugs-on-the-go-15363
END:VEVENT

END:VCALENDAR
