BEGIN:VCALENDAR
VERSION:2.0
PRODID:-//ChamberMaster//Event Calendar 2.0//EN
METHOD:PUBLISH
X-PUBLISHED-TTL:P3D
REFRESH-INTERVAL:P3D
CALSCALE:GREGORIAN
BEGIN:VEVENT
DTSTART:20180801T220000Z
DTEND:20180802T000000Z
X-MICROSOFT-CDO-ALLDAYEVENT:FALSE
SUMMARY:INKUBATE
DESCRIPTION:New Jersey Dance Theatre Ensemble (NJDTE) and Reeves-Reed Arboretum will collaborate for the fourth consecutive summer to present the 2018 INKUBATE  Dance Festival\, a site-specific series of three dance performances throughout the gardens of the Arboretum in Summit\, NJ.
X-ALT-DESC;FMTTYPE=text/html:New Jersey Dance Theatre Ensemble (NJDTE) and Reeves-Reed Arboretum will collaborate for the fourth consecutive summer to present the 2018 INKUBATE&reg\; Dance Festival\, a site-specific series of three dance performances throughout the gardens of the Arboretum in Summit\, NJ.
LOCATION:Reeves-Reed Arboretum 65 Hobart Ave. Summit\, NJ 07901
UID:e.870.13011
SEQUENCE:3
DTSTAMP:20260421T040247Z
URL:https://business.suburbanchambers.org/events/details/inkubate-08-01-2018-13011
END:VEVENT

END:VCALENDAR
