BEGIN:VCALENDAR
VERSION:2.0
PRODID:-//ChamberMaster//Event Calendar 2.0//EN
METHOD:PUBLISH
X-PUBLISHED-TTL:P3D
REFRESH-INTERVAL:P3D
CALSCALE:GREGORIAN
BEGIN:VEVENT
DTSTART:20180927T220000Z
DTEND:20180928T000000Z
X-MICROSOFT-CDO-ALLDAYEVENT:FALSE
SUMMARY:Informal Talk by Rogerto Dutesco about the Wild Horses of Sable Island at Reeves-Reed Arboretum
DESCRIPTION:The public is invited to an informal talk by photographer\, artist and IAMWILD conservationist\, Roberto Dutesco. Please visit our website for more information on this exhibit. RSVP to Doreen Schindler\, by 9/24
X-ALT-DESC;FMTTYPE=text/html:The public is invited to an informal talk by photographer\, artist and IAMWILD conservationist\, Roberto Dutesco. Please visit our website for more information on this exhibit. RSVP to Doreen Schindler\, by 9/24
LOCATION:Reeves-Reed Arboretum 165 Hobart Ave. Summit\, NJ 07901
UID:e.870.14358
SEQUENCE:3
DTSTAMP:20260421T011807Z
URL:https://business.suburbanchambers.org/events/details/informal-talk-by-rogerto-dutesco-about-the-wild-horses-of-sable-island-at-reeves-reed-arboretum-14358
END:VEVENT

END:VCALENDAR
