BEGIN:VCALENDAR
VERSION:2.0
PRODID:-//ChamberMaster//Event Calendar 2.0//EN
METHOD:PUBLISH
X-PUBLISHED-TTL:P3D
REFRESH-INTERVAL:P3D
CALSCALE:GREGORIAN
BEGIN:VEVENT
DTSTART:20190411T113000Z
DTEND:20190412T000000Z
X-MICROSOFT-CDO-ALLDAYEVENT:FALSE
SUMMARY:Imagine Open House
DESCRIPTION:Are you curious about Imagine? Want to learn more? Imagine is hosting an open house on April 11th at our center in Mountainside. Come learn more and see how you can be a part of a growing organization helping those bereaved in our communities.
X-ALT-DESC;FMTTYPE=text/html:Are you curious about Imagine? Want to learn more? Imagine is hosting an open house on April 11th at our center in Mountainside. Come learn more and see how you can be a part of a growing organization helping those bereaved in our communities.
LOCATION:244 Sheffield Strreet
UID:e.870.15369
SEQUENCE:3
DTSTAMP:20260420T034618Z
URL:https://business.suburbanchambers.org/events/details/imagine-open-house-15369
END:VEVENT

END:VCALENDAR
