BEGIN:VCALENDAR
VERSION:2.0
PRODID:-//ChamberMaster//Event Calendar 2.0//EN
METHOD:PUBLISH
X-PUBLISHED-TTL:P3D
REFRESH-INTERVAL:P3D
CALSCALE:GREGORIAN
BEGIN:VEVENT
DTSTART:20190420T230000Z
DTEND:20190420T234500Z
X-MICROSOFT-CDO-ALLDAYEVENT:FALSE
SUMMARY:Holy Saturday Service
DESCRIPTION:Join us for a candle-lit time of poetry\, prayer\, and silence as we mark the day when all seemed lost. 7:00 pm in the Memorial Garden
X-ALT-DESC;FMTTYPE=text/html:Join us for a candle-lit time of poetry\, prayer\, and silence as we mark the day when all seemed lost. 7:00 pm in the Memorial Garden
LOCATION:The United Methodist Church of Summit - Memorial Garden 17 Kent Place Boulevard Summit\, NJ 07901
UID:e.870.15407
SEQUENCE:3
DTSTAMP:20260420T035018Z
URL:https://business.suburbanchambers.org/events/details/holy-saturday-service-15407
END:VEVENT

END:VCALENDAR
