BEGIN:VCALENDAR
VERSION:2.0
PRODID:-//ChamberMaster//Event Calendar 2.0//EN
METHOD:PUBLISH
X-PUBLISHED-TTL:P3D
REFRESH-INTERVAL:P3D
CALSCALE:GREGORIAN
BEGIN:VEVENT
DTSTART:20181208T130000Z
DTEND:20181208T170000Z
X-MICROSOFT-CDO-ALLDAYEVENT:FALSE
SUMMARY:Holiday Cookie Walk
DESCRIPTION:Need Cookies for the holidays but no time to bake? Visit the Summit YMCA Holiday Cookie Walk & Support the Togetherhood Program with your cookie purchase. WHEN December 8th\, 8:00AM   12:00PM WHERE Summit YMCA\, 67 Maple Avenue\, Summit COST $10 donation for a box of handmade cookies in a decorative holiday box! CONTACT Patty Facchinei at patty.facchinei@thesay.org or 908 273-3330 x 1174
X-ALT-DESC;FMTTYPE=text/html:Need Cookies for the holidays but no time to bake? Visit the Summit YMCA Holiday Cookie Walk &amp\; Support the Togetherhood Program with your cookie purchase. WHEN December 8th\, 8:00AM &ndash\; 12:00PM WHERE Summit YMCA\, 67 Maple Avenue\, Summit COST $10 donation for a box of handmade cookies in a decorative holiday box! CONTACT Patty Facchinei at patty.facchinei@thesay.org or 908 273-3330 x 1174
LOCATION:Summit YMCA 67 Maple Street Summit\, NJ 07901
UID:e.870.14813
SEQUENCE:3
DTSTAMP:20260420T185703Z
URL:https://business.suburbanchambers.org/events/details/holiday-cookie-walk-12-08-2018-14813
END:VEVENT

END:VCALENDAR
