BEGIN:VCALENDAR
VERSION:2.0
PRODID:-//ChamberMaster//Event Calendar 2.0//EN
METHOD:PUBLISH
X-PUBLISHED-TTL:P3D
REFRESH-INTERVAL:P3D
CALSCALE:GREGORIAN
BEGIN:VEVENT
DTSTART:20181009T170000Z
DTEND:20181009T181500Z
X-MICROSOFT-CDO-ALLDAYEVENT:FALSE
SUMMARY:History Lecture Series- Invasion of Normandy
DESCRIPTION:The Western Allies of World War II launched the largest amphibious invasion in history when they assaulted Normandy\, located on the northern coast of France\, on 6 June 1944
X-ALT-DESC;FMTTYPE=text/html:The Western Allies of World War II launched the largest amphibious invasion in history when they assaulted Normandy\, located on the northern coast of France\, on 6 June 1944
LOCATION:Summit YMCA 67 Maple Street Summit NJ
UID:e.870.14129
SEQUENCE:3
DTSTAMP:20260420T220647Z
URL:https://business.suburbanchambers.org/events/details/history-lecture-series-invasion-of-normandy-14129
END:VEVENT

END:VCALENDAR
