BEGIN:VCALENDAR
VERSION:2.0
PRODID:-//ChamberMaster//Event Calendar 2.0//EN
METHOD:PUBLISH
X-PUBLISHED-TTL:P3D
REFRESH-INTERVAL:P3D
CALSCALE:GREGORIAN
BEGIN:VEVENT
DTSTART:20190521T170000Z
DTEND:20190521T181500Z
X-MICROSOFT-CDO-ALLDAYEVENT:FALSE
SUMMARY:History Lecture President Lincoln & the Civil War
DESCRIPTION:Learn about the period in time where Abraham Lincoln left Springfield\, Illinois for Washington DC\, to become president\, until he returned as a martyred American icon. Presented by Ken Epstein\, Lincoln enthusiast and Summit YMCA member Please register at the member services desk. Photo ID required
X-ALT-DESC;FMTTYPE=text/html:Learn about the period in time where Abraham Lincoln left Springfield\, Illinois for Washington DC\, to become president\, until he returned as a martyred American icon. Presented by Ken Epstein\, Lincoln enthusiast and Summit YMCA member Please register at the member services desk. Photo ID required
LOCATION:Summit YMCA 67 Maple Street Summit NJ
UID:e.870.14870
SEQUENCE:3
DTSTAMP:20260419T192158Z
URL:https://business.suburbanchambers.org/events/details/history-lecture-president-lincoln-the-civil-war-14870
END:VEVENT

END:VCALENDAR
