BEGIN:VCALENDAR
VERSION:2.0
PRODID:-//ChamberMaster//Event Calendar 2.0//EN
METHOD:PUBLISH
X-PUBLISHED-TTL:P3D
REFRESH-INTERVAL:P3D
CALSCALE:GREGORIAN
BEGIN:VEVENT
DTSTART:20180925T170000Z
DTEND:20180925T181500Z
X-MICROSOFT-CDO-ALLDAYEVENT:FALSE
SUMMARY:History Lecture "Battle of Trenton"
DESCRIPTION:The Battle of Trenton was a small but pivotal battle during the American Revolutionary War which took place on the morning of December 26\, 1776\, in Trenton\, New Jersey
X-ALT-DESC;FMTTYPE=text/html:The&nbsp\;Battle of Trenton&nbsp\;was a small but pivotal&nbsp\;battle&nbsp\;during the American Revolutionary War which took place on the morning of December 26\, 1776\, in&nbsp\;Trenton\, New Jersey
LOCATION:Summit YMCA 67 Maple Street Summit NJ
UID:e.870.14131
SEQUENCE:3
DTSTAMP:20260421T010154Z
URL:https://business.suburbanchambers.org/events/details/history-lecture-battle-trenton-14131
END:VEVENT

END:VCALENDAR
