BEGIN:VCALENDAR
VERSION:2.0
PRODID:-//ChamberMaster//Event Calendar 2.0//EN
METHOD:PUBLISH
X-PUBLISHED-TTL:P3D
REFRESH-INTERVAL:P3D
CALSCALE:GREGORIAN
BEGIN:VEVENT
DTSTART:20190504T130000Z
DTEND:20190504T190000Z
X-MICROSOFT-CDO-ALLDAYEVENT:FALSE
SUMMARY:Hist. Soc. Craft Fair
DESCRIPTION:Annual Craft Fair of New Providence Historical Society. Saturday\, May 4(rain date May 11). Grounds of Salt Box Museum\, 1350 Springfield Ave.\, N.P. Variety of vendors\, "treasure tables"\, bake sale\, and spring plant sale. Vendors call (908)464-7215 to reserve $25 lawn spot. For info. call society (908)665-1034.
X-ALT-DESC;FMTTYPE=text/html:Annual Craft Fair of New Providence Historical Society. Saturday\, May 4(rain date May 11). Grounds of Salt Box Museum\, 1350 Springfield Ave.\, N.P. Variety of vendors\, &quot\;treasure tables&quot\;\, bake sale\, and spring plant sale. Vendors call (908)464-7215 to reserve $25 lawn spot. For info. call society (908)665-1034.
LOCATION:1350 Springfield Ave. New Providence\, NJ
UID:e.870.15398
SEQUENCE:3
DTSTAMP:20260419T232114Z
URL:https://business.suburbanchambers.org/events/details/hist-soc-craft-fair-15398
END:VEVENT

END:VCALENDAR
