BEGIN:VCALENDAR
VERSION:2.0
PRODID:-//ChamberMaster//Event Calendar 2.0//EN
METHOD:PUBLISH
X-PUBLISHED-TTL:P3D
REFRESH-INTERVAL:P3D
CALSCALE:GREGORIAN
BEGIN:VEVENT
DTSTART:20190123T200000Z
DTEND:20190123T220000Z
X-MICROSOFT-CDO-ALLDAYEVENT:FALSE
SUMMARY:High School Peer Tutoring for mid-term exams
DESCRIPTION:Get ready to ace your mid-terms! Free tutoring offered by local high school students in a variety of subjects\, plus dedicated quiet space in the library for studying. Pre-registration required. Please email to volunteer as a tutor or to request a 30-min session. Please specify which subject area(s) for both tutors and students. (Service hours offered to those who tutor.)
X-ALT-DESC;FMTTYPE=text/html:Get ready to ace your mid-terms! Free tutoring offered by local high school students in a variety of subjects\, plus dedicated quiet space in the library for studying. Pre-registration required. Please email to volunteer as a tutor or to request a 30-min session. Please specify which subject area(s) for both tutors and students. (Service hours offered to those who tutor.)
LOCATION:New Providence Memorial Library
UID:e.870.15196
SEQUENCE:3
DTSTAMP:20260420T113440Z
URL:https://business.suburbanchambers.org/events/details/high-school-peer-tutoring-for-mid-term-exams-15196
END:VEVENT

END:VCALENDAR
