BEGIN:VCALENDAR
VERSION:2.0
PRODID:-//ChamberMaster//Event Calendar 2.0//EN
METHOD:PUBLISH
X-PUBLISHED-TTL:P3D
REFRESH-INTERVAL:P3D
CALSCALE:GREGORIAN
BEGIN:VEVENT
DTSTART:20180606T140000Z
DTEND:20180606T150000Z
X-MICROSOFT-CDO-ALLDAYEVENT:FALSE
SUMMARY:Herb Terrariums (Adults) at Reves-Reed ArboretumHerb Terrariums (Adults) at Reves-Reed ArboretumHerb Terrariums (Adults) at Reves-Reed ArboretumHerb Terrariums (Adults) at Reves-Reed ArboretumHerb Terrariums (Adults) at Reves-Reed Arboretum
DESCRIPTION:Create a beautiful indoor herb terrarium and have fresh herbs at your fingertips all season long! Registration is required. Fee includes all materials. Union County Master Gardeners can receive Continuing Education Credits (CEU) for this course\, as well as member pricing. To receive member pricing\, please contact Doreen Schindler\, Office Administrator\, at d.schindler@reeves-reedarboretum.org or 908-273-8787 ext. 1010. This program is supported\, in part\, through grants from the Junior League of Summit and the Summit Area Public Foundation. Date/Time: Wednesday\, June 6\, 10:00pm - 11:00am. Location:  Reeves-Reed Arboretum\, 165 Hobart Ave.\, Summit\, NJ 07901 Ages:  Adult Cost:  Members $25.00 | Non-Members $40.00\, Union County Master Gardeners can receive Continuing Education Credits (CEU) for this course\, as well as member pricing. Pre-Registration:  Required. On-Line Registration:  Visit our website? More Information:  RRA Website? Contact:  Doreen Schindler\, D.Schindler@Reeves-ReedArboretum.org\, (908) 273-8787 x1010.
X-ALT-DESC;FMTTYPE=text/html:Create a beautiful indoor herb terrarium and have fresh herbs at your fingertips all season long! Registration is required. Fee includes all materials. Union County Master Gardeners can receive Continuing Education Credits (CEU) for this course\, as well as member pricing. To receive member pricing\, please contact Doreen Schindler\, Office Administrator\, at d.schindler@reeves-reedarboretum.org or 908-273-8787 ext. 1010. This program is supported\, in part\, through grants from the Junior League of Summit and the Summit Area Public Foundation. Date/Time:&nbsp\;Wednesday\, June 6\, 10:00pm - 11:00am. Location:&nbsp\; Reeves-Reed Arboretum\, 165 Hobart Ave.\, Summit\, NJ 07901 Ages:&nbsp\; Adult Cost:&nbsp\; Members $25.00 | Non-Members $40.00\, Union County Master Gardeners can receive Continuing Education Credits (CEU) for this course\, as well as member pricing. Pre-Registration:&nbsp\; Required. On-Line Registration:&nbsp\; Visit our website? More Information:&nbsp\; RRA Website? Contact:&nbsp\; Doreen Schindler\, D.Schindler@Reeves-ReedArboretum.org\, (908) 273-8787 x1010.
LOCATION:Reeves-Reed Arboretum 165 Hobart Ave. summit\, NJ 07901
UID:e.870.13076
SEQUENCE:3
DTSTAMP:20260421T102734Z
URL:https://business.suburbanchambers.org/events/details/herb-terrariums-adults-at-reves-reed-arboretumherb-terrariums-adults-at-reves-reed-arboretumherb-terrariums-adults-at-reves-reed-arboretumherb-terrariums-adults-at-reves-reed-arboretumherb-terrariums-adults-at-reves-reed-arboretum-13076
END:VEVENT

END:VCALENDAR
