BEGIN:VCALENDAR
VERSION:2.0
PRODID:-//ChamberMaster//Event Calendar 2.0//EN
METHOD:PUBLISH
X-PUBLISHED-TTL:P3D
REFRESH-INTERVAL:P3D
CALSCALE:GREGORIAN
BEGIN:VEVENT
DTSTART:20181027T140000Z
DTEND:20181027T160000Z
X-MICROSOFT-CDO-ALLDAYEVENT:FALSE
SUMMARY:Halloween Spooktacular Family Fun at Berkeley Heights YMCA
DESCRIPTION:Start celebrating Halloween in the morning at the Berkeley Heights YMCA with Halloween activities for the whole family including climbing a Spooky Spider's Web loaded with candy or creating creepy-crawly crafts to take home and enjoy... HALLOWEEN SPOOKTACULAR FAMILY FUN AT BERKELEY HEIGHTS Costumes are encouraged. For Parking\, visit http://www.thesay.org/parkingBH
X-ALT-DESC;FMTTYPE=text/html:Start celebrating Halloween in the morning at the Berkeley Heights YMCA with Halloween activities for the whole family including climbing a Spooky Spider&#39\;s Web loaded with candy or creating creepy-crawly crafts to take home and enjoy... HALLOWEEN SPOOKTACULAR FAMILY FUN AT BERKELEY HEIGHTS Costumes are encouraged. For Parking\, visit http://www.thesay.org/parkingBH
LOCATION:Berkeley Heights YMCA 550 Springfield Avenue\, Berkeley Heights
UID:e.870.14543
SEQUENCE:3
DTSTAMP:20260420T220906Z
URL:https://business.suburbanchambers.org/events/details/halloween-spooktacular-family-fun-at-berkeley-heights-ymca-14543
END:VEVENT

END:VCALENDAR
