BEGIN:VCALENDAR
VERSION:2.0
PRODID:-//ChamberMaster//Event Calendar 2.0//EN
METHOD:PUBLISH
X-PUBLISHED-TTL:P3D
REFRESH-INTERVAL:P3D
CALSCALE:GREGORIAN
BEGIN:VEVENT
DTSTART:20181026T233000Z
DTEND:20181027T023000Z
X-MICROSOFT-CDO-ALLDAYEVENT:FALSE
SUMMARY:Halloween Show at the Minstrel
DESCRIPTION:Folk Project members take the stage tonight. Costumes encouraged\; prizes for the best ones. Special admission includes refreshments. Wheelchair accessible\; free parking.
X-ALT-DESC;FMTTYPE=text/html:Folk Project members take the stage tonight. Costumes encouraged\; prizes for the best ones. Special admission includes refreshments. Wheelchair accessible\; free parking.
LOCATION:Morristown Unitarian Fellowship 21 Normandy Heights Road Morristown\, NJ 07960
UID:e.870.14398
SEQUENCE:3
DTSTAMP:20260420T220552Z
URL:https://business.suburbanchambers.org/events/details/halloween-show-at-the-minstrel-14398
END:VEVENT

END:VCALENDAR
