BEGIN:VCALENDAR
VERSION:2.0
PRODID:-//ChamberMaster//Event Calendar 2.0//EN
METHOD:PUBLISH
X-PUBLISHED-TTL:P3D
REFRESH-INTERVAL:P3D
CALSCALE:GREGORIAN
BEGIN:VEVENT
DTSTART:20181015T230000Z
DTEND:20181016T013000Z
X-MICROSOFT-CDO-ALLDAYEVENT:FALSE
SUMMARY:Group Piano for Adults
DESCRIPTION:Dust off the ivories and if piano is your thing and you can not read a note of music you will be able to play simple songs\, chord changes and even transpose when the class is over. Anyone from 20-80 can take this course and have success!  Piano 1 & Piano 2
X-ALT-DESC;FMTTYPE=text/html:Dust off the ivories and if piano is your thing and you can not read a note of music you will be able to play simple songs\, chord changes and even transpose when the class is over. Anyone from 20-80 can take this course and have success! &nbsp\;Piano 1 &amp\; Piano 2
LOCATION:Chatham Middle School 480 Main St.\, Chatham\, NJ
UID:e.870.14410
SEQUENCE:3
DTSTAMP:20260420T220024Z
URL:https://business.suburbanchambers.org/events/details/group-piano-for-adults-14410
END:VEVENT

END:VCALENDAR
